Workbook
Name Filijala: [1]Pocetni!$A$29
Name Filijala: [1]Pocetni!$A$29
Name ZU: [1]Pocetni!$D$29
Name ZU: [1]Pocetni!$D$29

Sheet 2021 
A1: Дом здравља "Вељко Влаховић" Врбас
C3: ФИНАНСИЈСКИ ПЛАН ЗА 2021. ГОДИНУ
A5: I. УКУПНИ ПРИХОДИ И ПРИМАЊА
J6: (У хиљадама динара)
A7: Ознака ОП | B7: Број конта | C7: Опис | D7: Износ планираних прихода и примања
D8: Укупно (од 5 до 10) | E8: Приходи и примања из буџета | I8: Из донација и помоћи | J8: Из осталих извора
E9: Републике | F9: Аутономне покрајине | G9: Општине / града | H9: ООСО
A10: 1 | B10: 2 | C10: 3 | D10: 4 | E10: 5 | F10: 6 | G10: 7 | H10: 8 | I10: 9 | J10: 10
A11: 5001 | C11: ТЕКУЋИ ПРИХОДИ И ПРИМАЊА ОД ПРОДАЈЕ НЕФИНАНСИЈСКЕ ИМОВИНЕ (5002 + 5106) | D11: =SUM(E11:J11) -> 494511 | E11: =E12+E136 -> 7000 | F11: =F12+F136 -> 11000 | G11: =G12+G136 -> 20000 | H11: =H12+H136 -> 417249 | I11: =I12+I136 -> 5250 | J11: =J12+J136 -> 34012
A12: 5002 | B12: 700000 | C12: ТЕКУЋИ ПРИХОДИ (5003 + 5047 + 5057 + 5069 + 5094 + 5099 + 5103) | D12: =SUM(E12:J12) -> 493911 | E12: =E13+E65+E79+E91+E120+E125+E129 -> 7000 | F12: =F13+F65+F79+F91+F120+F125+F129 -> 11000 | G12: =G13+G65+G79+G91+G120+G125+G129 -> 20000 | H12: =H13+H65+H79+H91+H120+H125+H129 -> 417249 | I12: =I13+I65+I79+I91+I120+I125+I129 -> 5250 | J12: =J13+J65+J79+J91+J120+J125+J129 -> 33412
A13: 5003 | B13: 710000 | C13: ПОРЕЗИ (5004 + 5008 + 5010 + 5017 + 5023 + 5030 + 5033 + 5040) | D13: =SUM(E13:J13) -> 0 | E13: =E14+E22+E24+E31+E37+E44+E47+E58 -> 0 | F13: =F14+F22+F24+F31+F37+F44+F47+F58 -> 0 | G13: =G14+G22+G24+G31+G37+G44+G47+G58 -> 0 | H13: =H14+H22+H24+H31+H37+H44+H47+H58 -> 0 | I13: =I14+I22+I24+I31+I37+I44+I47+I58 -> 0 | J13: =J14+J22+J24+J31+J37+J44+J47+J58 -> 0
A14: 5004 | B14: 711000 | C14: ПОРЕЗ НА ДОХОДАК, ДОБИТ И КАПИТАЛНЕ ДОБИТКЕ (од 5005 до 5007) | D14: =SUM(E14:J14) -> 0 | E14: =SUM(E15:E21) -> 0 | F14: =SUM(F15:F21) -> 0 | G14: =SUM(G15:G21) -> 0 | H14: =SUM(H15:H21) -> 0 | I14: =SUM(I15:I21) -> 0 | J14: =SUM(J15:J21) -> 0
A15: 5005 | B15: 711100 | C15: Порези на доходак и капиталнe добиткe које плаћају физичка лица | D15: =SUM(E15:J15) -> 0
A16: Ознака ОП | B16: Број конта | C16: Опис | D16: Износ планираних прихода и примања
D17: Укупно (од 5 до 10) | E17: Приходи и примања из буџета | I17: Из донација и помоћи | J17: Из осталих извора
E18: Републике | F18: Аутономне покрајине | G18: Општине / града | H18: ООСО
A19: 1 | B19: 2 | C19: 3 | D19: 4 | E19: 5 | F19: 6 | G19: 7 | H19: 8 | I19: 9 | J19: 10
A20: 5006 | B20: 711200 | C20: Порези на добит и капиталне добитке које плаћају предузећа и друга правна лица | D20: =SUM(E20:J20) -> 0
A21: 5007 | B21: 711300 | C21: Порези на доходак, добит и капиталне добитке који се не могу разврстати између физичких и правних лица | D21: =SUM(E21:J21) -> 0
A22: 5008 | B22: 712000 | C22: ПОРЕЗ НА ФОНД ЗАРАДА (5009) | D22: =SUM(E22:J22) -> 0 | E22: =E23 -> 0 | F22: =F23 -> 0 | G22: =G23 -> 0 | H22: =H23 -> 0 | I22: =I23 -> 0 | J22: =J23 -> 0
A23: 5009 | B23: 712100 | C23: Порез на фонд зарада | D23: =SUM(E23:J23) -> 0
A24: 5010 | B24: 713000 | C24: ПОРЕЗ НА ИМОВИНУ (од 5011 до 5016) | D24: =SUM(E24:J24) -> 0 | E24: =SUM(E25:E30) -> 0 | F24: =SUM(F25:F30) -> 0 | G24: =SUM(G25:G30) -> 0 | H24: =SUM(H25:H30) -> 0 | I24: =SUM(I25:I30) -> 0 | J24: =SUM(J25:J30) -> 0
A25: 5011 | B25: 713100 | C25: Периодични порези на непокретности | D25: =SUM(E25:J25) -> 0
A26: 5012 | B26: 713200 | C26: Периодични порези на нето имовину | D26: =SUM(E26:J26) -> 0
A27: 5013 | B27: 713300 | C27: Порези на заоставштину, наслеђе и поклон | D27: =SUM(E27:J27) -> 0
A28: 5014 | B28: 713400 | C28: Порези на финансијске и капиталне трансакције | D28: =SUM(E28:J28) -> 0
A29: 5015 | B29: 713500 | C29: Други једнократни порези на имовину | D29: =SUM(E29:J29) -> 0
A30: 5016 | B30: 713600 | C30: Други периодични порези на имовину | D30: =SUM(E30:J30) -> 0
A31: 5017 | B31: 714000 | C31: ПОРЕЗ НА ДОБРА И УСЛУГЕ (од 5018 до 5022) | D31: =SUM(E31:J31) -> 0 | E31: =SUM(E32:E36) -> 0 | F31: =SUM(F32:F36) -> 0 | G31: =SUM(G32:G36) -> 0 | H31: =SUM(H32:H36) -> 0 | I31: =SUM(I32:I36) -> 0 | J31: =SUM(J32:J36) -> 0
A32: 5018 | B32: 714100 | C32: Општи порези на добра и услуге | D32: =SUM(E32:J32) -> 0
A33: 5019 | B33: 714300 | C33: Добит фискалних монопола | D33: =SUM(E33:J33) -> 0
A34: 5020 | B34: 714400 | C34: Порези на појединачне услуге | D34: =SUM(E34:J34) -> 0
A35: 5021 | B35: 714500 | C35: Порези, таксе и накнаде на употребу добара, на дозволу да се добра употребљавају или делатности обављају | D35: =SUM(E35:J35) -> 0
A36: 5022 | B36: 714600 | C36: Други порези на добра и услуге | D36: =SUM(E36:J36) -> 0
A37: 5023 | B37: 715000 | C37: ПОРЕЗ НА МЕЂУНАРОДНУ ТРГОВИНУ И ТРАНСАКЦИЈЕ (од 5024 до 5029) | D37: =SUM(E37:J37) -> 0 | E37: =SUM(E38:E43) -> 0 | F37: =SUM(F38:F43) -> 0 | G37: =SUM(G38:G43) -> 0 | H37: =SUM(H38:H43) -> 0 | I37: =SUM(I38:I43) -> 0 | J37: =SUM(J38:J43) -> 0
A38: 5024 | B38: 715100 | C38: Царине и друге увозне дажбине | D38: =SUM(E38:J38) -> 0
A39: 5025 | B39: 715200 | C39: Порези на извоз | D39: =SUM(E39:J39) -> 0
A40: 5026 | B40: 715300 | C40: Добит извозних или увозних монопола | D40: =SUM(E40:J40) -> 0
A41: 5027 | B41: 715400 | C41: Добит по основу разлике између куповног и продајног девизног курса | D41: =SUM(E41:J41) -> 0
A42: 5028 | B42: 715500 | C42: Порези на продају или куповину девиза | D42: =SUM(E42:J42) -> 0
A43: 5029 | B43: 715600 | C43: Други порези на међународну трговину и трансакције | D43: =SUM(E43:J43) -> 0
A44: 5030 | B44: 716000 | C44: ДРУГИ ПОРЕЗИ (5031 + 5032) | D44: =SUM(E44:J44) -> 0 | E44: =E45+E46 -> 0 | F44: =F45+F46 -> 0 | G44: =G45+G46 -> 0 | H44: =H45+H46 -> 0 | I44: =I45+I46 -> 0 | J44: =J45+J46 -> 0
A45: 5031 | B45: 716100 | C45: Други порези које искључиво плаћају предузећа, односно предузетници | D45: =SUM(E45:J45) -> 0
A46: 5032 | B46: 716200 | C46: Други порези које плаћају остала лица или који се не могу идентификовати | D46: =SUM(E46:J46) -> 0
A47: 5033 | B47: 717000 | C47: АКЦИЗЕ (од 5034 до 5039) | D47: =SUM(E47:J47) -> 0 | E47: =SUM(E52:E57) -> 0 | F47: =SUM(F52:F57) -> 0 | G47: =SUM(G52:G57) -> 0 | H47: =SUM(H52:H57) -> 0 | I47: =SUM(I52:I57) -> 0 | J47: =SUM(J52:J57) -> 0
A48: Ознака ОП | B48: Број конта | C48: Опис | D48: Износ планираних прихода и примања
D49: Укупно (од 5 до 10) | E49: Приходи и примања из буџета | I49: Из донација и помоћи | J49: Из осталих извора
E50: Републике | F50: Аутономне покрајине | G50: Општине / града | H50: ООСО
A51: 1 | B51: 2 | C51: 3 | D51: 4 | E51: 5 | F51: 6 | G51: 7 | H51: 8 | I51: 9 | J51: 10
A52: 5034 | B52: 717100 | C52: Акцизе на деривате нафте | D52: =SUM(E52:J52) -> 0
A53: 5035 | B53: 717200 | C53: Акцизе на дуванске прерађевине | D53: =SUM(E53:J53) -> 0
A54: 5036 | B54: 717300 | C54: Акцизе на алкохолна пића | D54: =SUM(E54:J54) -> 0
A55: 5037 | B55: 717400 | C55: Акцизе на освежавајућа безалкохолна пића | D55: =SUM(E55:J55) -> 0
A56: 5038 | B56: 717500 | C56: Акциза на кафу | D56: =SUM(E56:J56) -> 0
A57: 5039 | B57: 717600 | C57: Друге акцизе | D57: =SUM(E57:J57) -> 0
A58: 5040 | B58: 719000 | C58: ЈЕДНОКРАТНИ ПОРЕЗ НА ЕКСТРА ПРОФИТ И ЕКСТРА ИМОВИНУ СТЕЧЕНУ КОРИШЋЕЊЕМ ПОСЕБНИХ ПОГОДНОСТИ (од 5041 до 5046) | D58: =SUM(E58:J58) -> 0 | E58: =SUM(E59:E64) -> 0 | F58: =SUM(F59:F64) -> 0 | G58: =SUM(G59:G64) -> 0 | H58: =SUM(H59:H64) -> 0 | I58: =SUM(I59:I64) -> 0 | J58: =SUM(J59:J64) -> 0
A59: 5041 | B59: 719100 | C59: Порез на доходак, добит и капиталну добит на терет физичких лица | D59: =SUM(E59:J59) -> 0
A60: 5042 | B60: 719200 | C60: Порез на доходак, добит и капиталну добит на терет предузећа и осталих правних лица | D60: =SUM(E60:J60) -> 0
A61: 5043 | B61: 719300 | C61: Порез на доходак, добит и капиталну добит нераспоредив између физичких и правних лица | D61: =SUM(E61:J61) -> 0
A62: 5044 | B62: 719400 | C62: Остали једнократни порези на имовину | D62: =SUM(E62:J62) -> 0
A63: 5045 | B63: 719500 | C63: Остали порези које плаћају искључиво предузећа и предузетници | D63: =SUM(E63:J63) -> 0
A64: 5046 | B64: 719600 | C64: Остали порези које плаћају друга или неидентификована лица | D64: =SUM(E64:J64) -> 0
A65: 5047 | B65: 720000 | C65: СОЦИЈАЛНИ ДОПРИНОСИ (5048 + 5053) | D65: =SUM(E65:J65) -> 0 | E65: =E66+E71 -> 0 | F65: =F66+F71 -> 0 | G65: =G66+G71 -> 0 | H65: =H66+H71 -> 0 | I65: =I66+I71 -> 0 | J65: =J66+J71 -> 0
A66: 5048 | B66: 721000 | C66: ДОПРИНОСИ ЗА СОЦИЈАЛНО ОСИГУРАЊЕ (од 5049 до 5052) | D66: =SUM(E66:J66) -> 0 | E66: =SUM(E67:E70) -> 0 | F66: =SUM(F67:F70) -> 0 | G66: =SUM(G67:G70) -> 0 | H66: =SUM(H67:H70) -> 0 | I66: =SUM(I67:I70) -> 0 | J66: =SUM(J67:J70) -> 0
A67: 5049 | B67: 721100 | C67: Доприноси за социјално осигурање на терет запослених | D67: =SUM(E67:J67) -> 0
A68: 5050 | B68: 721200 | C68: Доприноси за социјално осигурање на терет послодавца | D68: =SUM(E68:J68) -> 0
A69: 5051 | B69: 721300 | C69: Доприноси за социјално осигурање лица која обављају самосталну делатност и незапослених лица | D69: =SUM(E69:J69) -> 0
A70: 5052 | B70: 721400 | C70: Доприноси за социјално осигурање који се не могу разврстати | D70: =SUM(E70:J70) -> 0
A71: 5053 | B71: 722000 | C71: ОСТАЛИ СОЦИЈАЛНИ ДОПРИНОСИ (од 5054 до 5056) | D71: =SUM(E71:J71) -> 0 | E71: =SUM(E72:E74) -> 0 | F71: =SUM(F72:F74) -> 0 | G71: =SUM(G72:G74) -> 0 | H71: =SUM(H72:H74) -> 0 | I71: =SUM(I72:I74) -> 0 | J71: =SUM(J72:J74) -> 0
A72: 5054 | B72: 722100 | C72: Социјални доприноси на терет осигураника | D72: =SUM(E72:J72) -> 0
A73: 5055 | B73: 722200 | C73: Социјални доприноси на терет послодаваца | D73: =SUM(E73:J73) -> 0
A74: 5056 | B74: 722300 | C74: Импутирани социјални доприноси | D74: =SUM(E74:J74) -> 0
A75: Ознака ОП | B75: Број конта | C75: Опис | D75: Износ планираних прихода и примања
D76: Укупно (од 5 до 10) | E76: Приходи и примања из буџета | I76: Из донација и помоћи | J76: Из осталих извора
E77: Републике | F77: Аутономне покрајине | G77: Општине / града | H77: ООСО
A78: 1 | B78: 2 | C78: 3 | D78: 4 | E78: 5 | F78: 6 | G78: 7 | H78: 8 | I78: 9 | J78: 10
A79: 5057 | B79: 730000 | C79: ДОНАЦИЈЕ, ПОМОЋИ И ТРАНСФЕРИ (5058 + 5061 + 5066) | D79: =SUM(E79:J79) -> 20000 | E79: =E80+E83+E88 -> 0 | F79: =F80+F83+F88 -> 0 | G79: =G80+G83+G88 -> 20000 | H79: =H80+H83+H88 -> 0 | I79: =I80+I83+I88 -> 0 | J79: =J80+J83+J88 -> 0
A80: 5058 | B80: 731000 | C80: ДОНАЦИЈЕ ОД ИНОСТРАНИХ ДРЖАВА (5059 + 5060) | D80: =SUM(E80:J80) -> 0 | E80: =E81+E82 -> 0 | F80: =F81+F82 -> 0 | G80: =G81+G82 -> 0 | H80: =H81+H82 -> 0 | I80: =I81+I82 -> 0 | J80: =J81+J82 -> 0
A81: 5059 | B81: 731100 | C81: Текуће донације од иностраних држава | D81: =SUM(E81:J81) -> 0
A82: 5060 | B82: 731200 | C82: Капиталне донације од иностраних држава | D82: =SUM(E82:J82) -> 0
A83: 5061 | B83: 732000 | C83: ДОНАЦИЈЕ И ПОМОЋИ ОД МЕЂУНАРОДНИХ ОРГАНИЗАЦИЈА (од 5062 до 5065) | D83: =SUM(E83:J83) -> 0 | E83: =E84+E85+E86+E87 -> 0 | F83: =F84+F85+F86+F87 -> 0 | G83: =G84+G85+G86+G87 -> 0 | H83: =H84+H85+H86+H87 -> 0 | I83: =I84+I85+I86+I87 -> 0 | J83: =J84+J85+J86+J87 -> 0
A84: 5062 | B84: 732100 | C84: Текуће донације од међународних организација | D84: =SUM(E84:J84) -> 0
A85: 5063 | B85: 732200 | C85: Капиталне донације од међународних организација | D85: =SUM(E85:J85) -> 0
A86: 5064 | B86: 732300 | C86: Текуће помоћи од ЕУ | D86: =SUM(E86:J86) -> 0
A87: 5065 | B87: 732400 | C87: Капиталне помоћи од ЕУ | D87: =SUM(E87:J87) -> 0
A88: 5066 | B88: 733000 | C88: ТРАНСФЕРИ ОД ДРУГИХ НИВОА ВЛАСТИ (5067 + 5068) | D88: =SUM(E88:J88) -> 20000 | E88: =E89+E90 -> 0 | F88: =F89+F90 -> 0 | G88: =G89+G90 -> 20000 | H88: =H89+H90 -> 0 | I88: =I89+I90 -> 0 | J88: =J89+J90 -> 0
A89: 5067 | B89: 733100 | C89: Текући трансфери од других нивоа власти | D89: =SUM(E89:J89) -> 20000 | G89: 20000
A90: 5068 | B90: 733200 | C90: Капитални трансфери од других нивоа власти | D90: =SUM(E90:J90) -> 0
A91: 5069 | B91: 740000 | C91: ДРУГИ ПРИХОДИ (5070 + 5077 + 5082 + 5089 + 5092) | D91: =SUM(E91:J91) -> 38662 | E91: =E92+E99+E104+E115+E118 -> 0 | F91: =F92+F99+F104+F115+F118 -> 0 | G91: =G92+G99+G104+G115+G118 -> 0 | H91: =H92+H99+H104+H115+H118 -> 0 | I91: =I92+I99+I104+I115+I118 -> 5250 | J91: =J92+J99+J104+J115+J118 -> 33412
A92: 5070 | B92: 741000 | C92: ПРИХОДИ ОД ИМОВИНЕ (од 5071 до 5076) | D92: =SUM(E92:J92) -> 700 | E92: =SUM(E93:E98) -> 0 | F92: =SUM(F93:F98) -> 0 | G92: =SUM(G93:G98) -> 0 | H92: =SUM(H93:H98) -> 0 | I92: =SUM(I93:I98) -> 0 | J92: =SUM(J93:J98) -> 700
A93: 5071 | B93: 741100 | C93: Камате | D93: =SUM(E93:J93) -> 0
A94: 5072 | B94: 741200 | C94: Дивиденде | D94: =SUM(E94:J94) -> 0
A95: 5073 | B95: 741300 | C95: Повлачење прихода од квази корпорација | D95: =SUM(E95:J95) -> 0
A96: 5074 | B96: 741400 | C96: Приход од имовине који припада имаоцима полиса осигурања | D96: =SUM(E96:J96) -> 700 | J96: 700
A97: 5075 | B97: 741500 | C97: Закуп непроизведене имовине | D97: =SUM(E97:J97) -> 0
A98: 5076 | B98: 741600 | C98: Финансијске промене на финансијским лизинзима | D98: =SUM(E98:J98) -> 0
A99: 5077 | B99: 742000 | C99: ПРИХОДИ ОД ПРОДАЈЕ ДОБАРА И УСЛУГА (од 5078 до 5081) | D99: =SUM(E99:J99) -> 32347 | E99: =SUM(E100:E103) -> 0 | F99: =SUM(F100:F103) -> 0 | G99: =SUM(G100:G103) -> 0 | H99: =SUM(H100:H103) -> 0 | I99: =SUM(I100:I103) -> 0 | J99: =SUM(J100:J103) -> 32347
A100: 5078 | B100: 742100 | C100: Приходи од продаје добара и услуга или закупа од стране тржишних организација | D100: =SUM(E100:J100) -> 0
A101: 5079 | B101: 742200 | C101: Таксе и накнаде | D101: =SUM(E101:J101) -> 0
A102: 5080 | B102: 742300 | C102: Споредне продаје добара и услуга које врше државне нетржишне јединице | D102: =SUM(E102:J102) -> 32347 | J102: =29955-370+1300+1462 -> 32347
...

Sheet Приходи
A3: ФИНАНСИЈСКИ ПЛАН ЗА 2021. ГОДИНУ
A5: ="ЗДРАВСТВЕНА УСТАНОВА: " & ZU -> ЗДРАВСТВЕНА УСТАНОВА: 00206026 ДЗ ВРБАС
J6: (у 000 динара)
B7: Ек. Класифи-кација | C7: Опис | D7: Укупно | E7: Приходи и примања из буџета | I7: Донације | J7: Из осталих извора-сопствени приходи
E8: Републике | F8: Аутономне покрајине | G8: Општине / града | H8: ООСО
B9: 1 | C9: 2 | D9: 3=4+5+6+7+8+9 | E9: 4 | F9: 5 | G9: 6 | H9: 7 | I9: 8 | J9: 9
C10: ТЕКУЋИ ПРИХОДИ И ПРИМАЊА ОД ПРОДАЈЕ НЕФИНАНСИЈСКЕ ИМОВИНЕ | D10: =SUM(E10:J10) -> 493049 | E10: =E11+E29 -> 7000 | F10: =F11+F29 -> 11000 | G10: =G11+G29 -> 20000 | H10: =H11+H29 -> 417249 | I10: =I11+I29 -> 5250 | J10: =J11+J29 -> 32550
B11: 700000 | C11: ТЕКУЋИ ПРИХОДИ | D11: =SUM(E11:J11) -> 492799 | E11: =E12+E16+E22+E25+E27 -> 7000 | F11: =F12+F16+F22+F25+F27 -> 11000 | G11: =G12+G16+G22+G25+G27 -> 20000 | H11: =H12+H16+H22+H25+H27 -> 417249 | I11: =I12+I16+I22+I25+I27 -> 5250 | J11: =J12+J16+J22+J25+J27 -> 32300
B12: 730000 | C12: ДОНАЦИЈЕ И ТРАНСФЕРИ | D12: =SUM(E12:J12) -> 20000 | E12: =SUM(E13:E15) -> 0 | F12: =SUM(F13:F15) -> 0 | G12: =SUM(G13:G15) -> 20000 | H12: =SUM(H13:H15) -> 0 | I12: =SUM(I13:I15) -> 0 | J12: =SUM(J13:J15) -> 0
B13: 731000 | C13: ДОНАЦИЈЕ ОД ИНОСТРАНИХ ДРЖАВА | D13: =SUM(E13:J13) -> 0
B14: 732000 | C14: ДОНАЦИЈЕ ОД МЕЂУНАРОДНИХ ОРГАНИЗАЦИЈА | D14: =SUM(E14:J14) -> 0
B15: 733000 | C15: ТРАНСФЕРИ ОД ДРУГИХ НИВОА ВЛАСТИ | D15: =SUM(E15:J15) -> 20000 | G15: 20000
B16: 740000 | C16: ДРУГИ ПРИХОДИ | D16: =SUM(E16:J16) -> 37550 | E16: =SUM(E17:E21) -> 0 | F16: =SUM(F17:F21) -> 0 | G16: =SUM(G17:G21) -> 0 | H16: =SUM(H17:H21) -> 0 | I16: =SUM(I17:I21) -> 5250 | J16: =SUM(J17:J21) -> 32300
B17: 741000 | C17: ПРИХОДИ ОД ИМОВИНЕ | D17: =SUM(E17:J17) -> 1000 | J17: 1000
B18: 742000 | C18: ПРИХОДИ ОД ПРОДАЈЕ ДОБАРА И УСЛУГА | D18: =SUM(E18:J18) -> 29955 | J18: 29955
B19: 743000 | C19: НОВЧАНЕ КАЗНЕ И ОДУЗЕТА ИМОВИНСКА КОРИСТ | D19: =SUM(E19:J19) -> 0
B20: 744000 | C20: ДОБРОВОЉНИ ТРАНСФЕРИ ОД ФИЗИЧКИХ И ПРАВНИХ ЛИЦА | D20: =SUM(E20:J20) -> 5250 | I20: 5250
B21: 745000 | C21: МЕШОВИТИ И НЕОДРЕЂЕНИ ПРИХОДИ | D21: =SUM(E21:J21) -> 1345 | J21: 1345
B22: 770000 | C22: МЕМОРАНДУМСКЕ СТАВКЕ ЗА РЕФУНДАЦИЈУ РАСХОДА | D22: =SUM(E22:J22) -> 0 | E22: =SUM(E23:E24) -> 0 | F22: =SUM(F23:F24) -> 0 | G22: =SUM(G23:G24) -> 0 | H22: =SUM(H23:H24) -> 0 | I22: =SUM(I23:I24) -> 0 | J22: =SUM(J23:J24) -> 0
B23: 771000 | C23: МЕМОРАНДУМСКЕ СТАВКЕ ЗА РЕФУНДАЦИЈУ РАСХОДА | D23: =SUM(E23:J23) -> 0
B24: 772000 | C24: МЕМОРАНДУМСКЕ СТАВКЕ ЗА РЕФУНДАЦИЈУ РАСХОДА ИЗ ПРЕТХОДНЕ ГОДИНЕ | D24: =SUM(E24:J24) -> 0
B25: 780000 | C25: ТРАНСФЕРИ ИЗМЕЂУ БУЏЕТСКИХ КОРИСНИКА НА ИСТОМ НИВОУ | D25: =SUM(E25:J25) -> 417249 | E25: =E26 -> 0 | F25: =F26 -> 0 | G25: =G26 -> 0 | H25: =H26 -> 417249 | I25: =I26 -> 0 | J25: =J26 -> 0
B26: 781000 | C26: ТРАНСФЕРИ ИЗМЕЂУ БУЏЕТСКИХ КОРИСНИКА НА ИСТОМ НИВОУ | D26: =SUM(E26:J26) -> 417249 | H26: ='2021 '!H127 -> 417249
B27: 790000 | C27: ПРИХОДИ ИЗ БУЏЕТА | D27: =SUM(E27:J27) -> 18000 | E27: =E28 -> 7000 | F27: =F28 -> 11000 | G27: =G28 -> 0 | H27: =H28 -> 0 | I27: =I28 -> 0 | J27: =J28 -> 0
B28: 791000 | C28: ПРИХОДИ ИЗ БУЏЕТА | D28: =SUM(E28:J28) -> 18000 | E28: 7000 | F28: 11000
B29: 800000 | C29: ПРИМАЊА ОД ПРОДАЈЕ НЕФИНАНСИЈСКЕ ИМОВИНЕ | D29: =SUM(E29:J29) -> 250 | E29: =E30+E34 -> 0 | F29: =F30+F34 -> 0 | G29: =G30+G34 -> 0 | H29: =H30+H34 -> 0 | I29: =I30+I34 -> 0 | J29: =J30+J34 -> 250
B30: 810000 | C30: ПРИМАЊА ОД ПРОДАЈЕ ОСНОВНИХ СРЕДСТАВА | D30: =SUM(E30:J30) -> 250 | E30: =SUM(E31:E33) -> 0 | F30: =SUM(F31:F33) -> 0 | G30: =SUM(G31:G33) -> 0 | H30: =SUM(H31:H33) -> 0 | I30: =SUM(I31:I33) -> 0 | J30: =SUM(J31:J33) -> 250
B31: 811000 | C31: ПРИМАЊА ОД ПРОДАЈЕ НЕПОКРЕТНОСТИ | D31: =SUM(E31:J31) -> 150 | J31: 150
B32: 812000 | C32: ПРИМАЊА ОД ПРОДАЈЕ ПОКРЕТНЕ ИМОВИНЕ | D32: =SUM(E32:J32) -> 100 | H32: 0 | J32: 100
B33: 813000 | C33: ПРИМАЊА ОД ПРОДАЈЕ ОСТАЛИХ ОСНОВНИХ СРЕДСТАВА | D33: =SUM(E33:J33) -> 0 | H33: 0
B34: 820000 | C34: ПРИМАЊА ОД ПРОДАЈЕ ЗАЛИХА | D34: =SUM(E34:J34) -> 0 | E34: =SUM(E35:E36) -> 0 | F34: =SUM(F35:F36) -> 0 | G34: =SUM(G35:G36) -> 0 | H34: =SUM(H35:H36) -> 0 | I34: =SUM(I35:I36) -> 0 | J34: =SUM(J35:J36) -> 0
B35: 822000 | C35: ПРИМАЊА ОД ПРОДАЈЕ ЗАЛИХА ПРОИЗВОДЊЕ | D35: =SUM(E35:J35) -> 0
B36: 823000 | C36: ПРИМАЊА ОД ПРОДАЈЕ РОБЕ ЗА ДАЉУ ПРОДАЈУ | D36: =SUM(E36:J36) -> 0
B37: 900000 | C37: ПРИМАЊА ОД ЗАДУЖИВАЊА И ПРОДАЈЕ ФИНАНСИЈСКЕ ИМОВИНЕ | D37: =SUM(E37:J37) -> 0 | E37: =E38+E40 -> 0 | F37: =F38+F40 -> 0 | G37: =G38+G40 -> 0 | H37: =H38+H40 -> 0 | I37: =I38+I40 -> 0 | J37: =J38+J40 -> 0
B38: 910000 | C38: ПРИМАЊА ОД ЗАДУЖИВАЊА | D38: =SUM(E38:J38) -> 0 | E38: =E39 -> 0 | F38: =F39 -> 0 | G38: =G39 -> 0 | H38: =H39 -> 0 | I38: =I39 -> 0 | J38: =J39 -> 0
B39: 911000 | C39: ПРИМАЊА ОД ДОМАЋИХ ЗАДУЖИВАЊА | D39: =SUM(E39:J39) -> 0
B40: 920000 | C40: ПРИМАЊА ОД ПРОДАЈЕ ФИНАНСИЈСКЕ ИМОВИНЕ | D40: =D41 -> 0 | E40: =E41 -> 0 | F40: =F41 -> 0 | G40: =G41 -> 0 | H40: =H41 -> 0 | I40: =I41 -> 0 | J40: =J41 -> 0
B41: 921000 | C41: ПРИМАЊА ОД ПРОДАЈЕ ДОМАЋЕ ФИНАНСИЈСКЕ ИМОВИНЕ | D41: =SUM(E41:J41) -> 0
C42: УКУПНИ ПРИХОДИ И ПРИМАЊА | D42: =SUM(E42:J42) -> 493049 | E42: =E10+E37 -> 7000 | F42: =F10+F37 -> 11000 | G42: =G10+G37 -> 20000 | H42: =H10+H37 -> 417249 | I42: =I10+I37 -> 5250 | J42: =J10+J37 -> 32550

Sheet Расходи
J2: (у 000 динара)
B3: Ек. Класифи-кација | C3: Опис | D3: Укупно | E3: Расходи и издаци из буџета | I3: Донације | J3: Из осталих извора
E4: Републике | F4: Аутономне покрајине | G4: Општине / града | H4: ООСО
B5: 1 | C5: 2 | D5: 3=4+5+6+7+8+9 | E5: 4 | F5: 5 | G5: 6 | H5: 7 | I5: 8 | J5: 9
C6: ТЕКУЋИ РАСХОДИ И ИЗДАЦИ ЗА НЕФИНАНСИЈСКЕ ИМОВИНЕ | D6: =SUM(E6:J6) -> 494511 | E6: =E7+E38 -> 7000 | F6: =F7+F38 -> 11000 | G6: =G7+G38 -> 20000 | H6: =H7+H38 -> 417249 | I6: =I7+I38 -> 5250 | J6: =J7+J38 -> 34012
B7: 400000 | C7: ТЕКУЋИ РАСХОДИ | D7: =SUM(E7:J7) -> 475546 | E7: =E8+E15+E22+E27+E30+E32 -> 5770 | F7: =F8+F15+F22+F27+F30+F32 -> 0 | G7: =G8+G15+G22+G27+G30+G32 -> 18615 | H7: =H8+H15+H22+H27+H30+H32 -> 417249 | I7: =I8+I15+I22+I27+I30+I32 -> 1000 | J7: =J8+J15+J22+J27+J30+J32 -> 32912
B8: 410000 | C8: РАСХОДИ ЗА ЗАПОСЛЕНЕ | D8: =SUM(E8:J8) -> 385745 | E8: =SUM(E9:E14) -> 4498 | F8: =SUM(F9:F14) -> 0 | G8: =SUM(G9:G14) -> 16460 | H8: =SUM(H9:H14) -> 348135 | I8: =SUM(I9:I14) -> 0 | J8: =SUM(J9:J14) -> 16652
B9: 411000 | C9: ПЛАТЕ, ДОДАЦИ И НАКНАДЕ ЗАПОСЛЕНИХ (ЗАРАДЕ) | D9: =SUM(E9:J9) -> 296950 | E9: ='2021 '!E225 -> 1000 | F9: ='2021 '!F225 -> 0 | G9: ='2021 '!G225 -> 14630 | H9: ='2021 '!H225 -> 269704 | I9: ='2021 '!I225 -> 0 | J9: ='2021 '!J225 -> 11616
B10: 412000 | C10: СОЦИЈАЛНИ ДОПРИНОСИ НА ТЕРЕТ ПОСЛОДАВЦА | D10: =SUM(E10:J10) -> 54003 | E10: ='2021 '!E227 -> 200 | F10: ='2021 '!F227 -> 0 | G10: ='2021 '!G227 -> 1830 | H10: ='2021 '!H227 -> 49893 | I10: ='2021 '!I227 -> 0 | J10: ='2021 '!J227 -> 2080
B11: 413000 | C11: НАКНАДЕ У НАТУРИ | D11: =SUM(E11:J11) -> 400 | E11: ='2021 '!E231 -> 0 | F11: ='2021 '!F231 -> 0 | G11: ='2021 '!G231 -> 0 | H11: ='2021 '!H231 -> 0 | I11: ='2021 '!I231 -> 0 | J11: ='2021 '!J231 -> 400
B12: 414000 | C12: СОЦИЈАЛНА ДАВАЊА ЗАПОСЛЕНИМА | D12: =SUM(E12:J12) -> 11612 | E12: ='2021 '!E233 -> 3248 | F12: ='2021 '!F233 -> 0 | G12: ='2021 '!G233 -> 0 | H12: ='2021 '!H233 -> 7808 | I12: ='2021 '!I233 -> 0 | J12: ='2021 '!J233 -> 556
B13: 415000 | C13: НАКНАДЕ ТРОШКОВА ЗА ЗАПОСЛЕНЕ | D13: =SUM(E13:J13) -> 17980 | E13: ='2021 '!E242 -> 50 | F13: ='2021 '!F242 -> 0 | G13: ='2021 '!G242 -> 0 | H13: ='2021 '!H242 -> 16230 | I13: ='2021 '!I242 -> 0 | J13: ='2021 '!J242 -> 1700
B14: 416000 | C14: НАГРАДЕ ЗАПОСЛЕНИМА И ОСТАЛИ ПОСЕБНИ РАСХОДИ | D14: =SUM(E14:J14) -> 4800 | E14: ='2021 '!E245 -> 0 | F14: ='2021 '!F245 -> 0 | G14: ='2021 '!G245 -> 0 | H14: ='2021 '!H245 -> 4500 | I14: ='2021 '!I245 -> 0 | J14: ='2021 '!J245 -> 300
B15: 420000 | C15: КОРИШЋЕЊЕ УСЛУГА И РОБА | D15: =SUM(E15:J15) -> 81126 | E15: =SUM(E16:E21) -> 1272 | F15: =SUM(F16:F21) -> 0 | G15: =SUM(G16:G21) -> 2000 | H15: =SUM(H16:H21) -> 63094 | I15: =SUM(I16:I21) -> 1000 | J15: =SUM(J16:J21) -> 13760
B16: 421000 | C16: СТАЛНИ ТРОШКОВИ | D16: =SUM(E16:J16) -> 19762 | E16: ='2021 '!E251 -> 2 | F16: ='2021 '!F251 -> 0 | G16: ='2021 '!G251 -> 0 | H16: ='2021 '!H251 -> 17800 | I16: ='2021 '!I251 -> 0 | J16: ='2021 '!J251 -> 1960
B17: 422000 | C17: ТРОШКОВИ ПУТОВАЊА | D17: =SUM(E17:J17) -> 3120 | E17: ='2021 '!E259 -> 0 | F17: ='2021 '!F259 -> 0 | G17: ='2021 '!G259 -> 200 | H17: ='2021 '!H259 -> 120 | I17: ='2021 '!I259 -> 0 | J17: ='2021 '!J259 -> 2800
B18: 423000 | C18: УСЛУГЕ ПО УГОВОРУ | D18: =SUM(E18:J18) -> 7030 | E18: ='2021 '!E265 -> 960 | F18: ='2021 '!F265 -> 0 | G18: ='2021 '!G265 -> 0 | H18: ='2021 '!H265 -> 4770 | I18: ='2021 '!I265 -> 0 | J18: ='2021 '!J265 -> 1300
B19: 424000 | C19: СПЕЦИЈАЛИЗОВАНЕ УСЛУГЕ | D19: =SUM(E19:J19) -> 2900 | E19: ='2021 '!E278 -> 250 | F19: ='2021 '!F278 -> 0 | G19: ='2021 '!G278 -> 250 | H19: ='2021 '!H278 -> 400 | I19: ='2021 '!I278 -> 0 | J19: ='2021 '!J278 -> 2000
B20: 425000 | C20: ТЕКУЋЕ ПОПРАВКЕ И ОДРЖАВАЊЕ | D20: =SUM(E20:J20) -> 4150 | E20: ='2021 '!E286 -> 0 | F20: ='2021 '!F286 -> 0 | G20: ='2021 '!G286 -> 0 | H20: ='2021 '!H286 -> 3500 | I20: ='2021 '!I286 -> 0 | J20: ='2021 '!J286 -> 650
B21: 426000 | C21: МАТЕРИЈАЛ | D21: =SUM(E21:J21) -> 44164 | E21: ='2021 '!E289 -> 60 | F21: ='2021 '!F289 -> 0 | G21: ='2021 '!G289 -> 1550 | H21: ='2021 '!H289 -> 36504 | I21: ='2021 '!I289 -> 1000 | J21: ='2021 '!J289 -> 5050
B22: 430000 | C22: АМОРТИЗАЦИЈА И УПОТРЕБА СРЕДСТАВА ЗА РАД | D22: =SUM(E22:J22) -> 800 | E22: =SUM(E23:E26) -> 0 | F22: =SUM(F23:F26) -> 0 | G22: =SUM(G23:G26) -> 0 | H22: =SUM(H23:H26) -> 0 | I22: =SUM(I23:I26) -> 0 | J22: =SUM(J23:J26) -> 800
B23: 431000 | C23: АМОРТИЗАЦИЈА НЕКРЕТНИНА И ОПРЕМЕ | D23: =SUM(E23:J23) -> 800 | E23: ='2021 '!E300 -> 0 | F23: ='2021 '!F300 -> 0 | G23: ='2021 '!G300 -> 0 | H23: ='2021 '!H300 -> 0 | I23: ='2021 '!I300 -> 0 | J23: ='2021 '!J300 -> 800
B24: 432000 | C24: АМОРТИЗАЦИЈА КУЛТИВИСАНЕ ИМОВИНЕ | D24: =SUM(E24:J24) -> 0
B25: 434000 | C25: УПОТРЕБА ПРИРОДНЕ ИМОВИНЕ | D25: =SUM(E25:J25) -> 0
B26: 435000 | C26: АМОРТИЗАЦИЈА НЕМАТЕРИЈАЛНЕ ИМОВИНЕ | D26: =SUM(E26:J26) -> 0
B27: 440000 | C27: ОТПЛАТА КАМАТА И ПРАТЕЋИ ТРОШКОВИ ЗАДУЖИВАЊА | D27: =SUM(E27:J27) -> 6420 | E27: =SUM(E28:E29) -> 0 | F27: =SUM(F28:F29) -> 0 | G27: =SUM(G28:G29) -> 0 | H27: =SUM(H28:H29) -> 5820 | I27: =SUM(I28:I29) -> 0 | J27: =SUM(J28:J29) -> 600
B28: 441000 | C28: ОТПЛАТА ДОМАЋИХ КАМАТА | D28: =SUM(E28:J28) -> 0
B29: 444000 | C29: ПРАТЕЋИ ТРОШКОВИ ЗАДУЖИВАЊА | D29: =SUM(E29:J29) -> 6420 | E29: ='2021 '!E344 -> 0 | F29: ='2021 '!F344 -> 0 | G29: ='2021 '!G344 -> 0 | H29: ='2021 '!H344 -> 5820 | I29: ='2021 '!I344 -> 0 | J29: ='2021 '!J344 -> 600
B30: 460000 | C30: ДОНАЦИЈЕ, ДОТАЦИЈЕ И ТРАНСФЕРИ (5304) | D30: =SUM(E30:J30) -> 0 | E30: =SUM(E31) -> 0 | F30: =SUM(F31) -> 0 | G30: =SUM(G31) -> 0 | H30: =SUM(H31) -> 0 | I30: =SUM(I31) -> 0 | J30: =SUM(J31) -> 0
B31: 465000 | C31: ОСТАЛЕ ДОТАЦИЈЕ И ТРАНСФЕРИ | D31: =SUM(E31:J31) -> 0
B32: 480000 | C32: ОСТАЛИ РАСХОДИ | D32: =SUM(E32:J32) -> 1455 | E32: =SUM(E33:E37) -> 0 | F32: =SUM(F33:F37) -> 0 | G32: =SUM(G33:G37) -> 155 | H32: =SUM(H33:H37) -> 200 | I32: =SUM(I33:I37) -> 0 | J32: =SUM(J33:J37) -> 1100
B33: 481000 | C33: ДОТАЦИЈЕ НЕВЛАДИНИМ ОРГАНИЗАЦИЈАМА | D33: =SUM(E33:J33) -> 0
B34: 482000 | C34: ПОРЕЗИ, ОБАВЕЗНЕ ТАКСЕ И КАЗНЕ | D34: =SUM(E34:J34) -> 1265 | E34: ='2021 '!E402 -> 0 | F34: ='2021 '!F402 -> 0 | G34: ='2021 '!G402 -> 0 | H34: ='2021 '!H402 -> 200 | I34: ='2021 '!I402 -> 0 | J34: ='2021 '!J402 -> 1065
B35: 483000 | C35: НОВЧАНЕ КАЗНЕ И ПЕНАЛИ ПО РЕШЕЊУ СУДОВА | D35: =SUM(E35:J35) -> 190 | E35: ='2021 '!E406 -> 0 | F35: ='2021 '!F406 -> 0 | G35: ='2021 '!G406 -> 155 | H35: ='2021 '!H406 -> 0 | I35: ='2021 '!I406 -> 0 | J35: ='2021 '!J406 -> 35
B36: 484000 | C36: НАКНАДА ШТЕТЕ ЗА ПОВРЕДЕ ИЛИ ШТЕТУ НАСТАЛУ УСЛЕД ЕЛЕМЕНТАРНИХ НЕПОГОДА ИЛИ ДРУГИХ ПРИРОДНИХ УЗРОКА | D36: =SUM(E36:J36) -> 0
B37: 485000 | C37: НАКНАДА ШТЕТЕ ЗА ПОВРЕДЕ ИЛИ ШТЕТУ НАНЕТУ ИД СТРАНЕ ДРЖАВНИХ ОРХАНА | D37: =SUM(E37:J37) -> 0
B38: 500000 | C38: ИЗДАЦИ ЗА НЕФИНАНСИЈСКУ ИМОВИНУ | D38: =SUM(E38:J38) -> 18965 | E38: =E39+E44+E47 -> 1230 | F38: =F39+F44+F47 -> 11000 | G38: =G39+G44+G47 -> 1385 | H38: =H39+H44+H47 -> 0 | I38: =I39+I44+I47 -> 4250 | J38: =J39+J44+J47 -> 1100
B39: 510000 | C39: ОСНОВНА СРЕДСТВА | D39: =SUM(E39:J39) -> 18965 | E39: =SUM(E40:E43) -> 1230 | F39: =SUM(F40:F43) -> 11000 | G39: =SUM(G40:G43) -> 1385 | H39: =SUM(H40:H43) -> 0 | I39: =SUM(I40:I43) -> 4250 | J39: =SUM(J40:J43) -> 1100
B40: 511000 | C40: ЗГРАДЕ И ГРАЂЕВИНСКИ ОБЈЕКТИ | D40: =SUM(E40:J40) -> 400 | E40: ='2021 '!E421 -> 0 | F40: ='2021 '!F421 -> 0 | G40: ='2021 '!G421 -> 0 | H40: ='2021 '!H421 -> 0 | I40: ='2021 '!I421 -> 0 | J40: ='2021 '!J421 -> 400
B41: 512000 | C41: МАШИНЕ И ОПРЕМА | D41: =SUM(E41:J41) -> 18465 | E41: ='2021 '!E426 -> 1230 | F41: ='2021 '!F426 -> 11000 | G41: ='2021 '!G426 -> 1385 | H41: ='2021 '!H426 -> 0 | I41: ='2021 '!I426 -> 4250 | J41: ='2021 '!J426 -> 600
B42: 513000 | C42: ОСТАЛЕ НЕКРЕТНИНЕ И ОПРЕМА | D42: =SUM(E42:J42) -> 0
B43: 515000 | C43: НЕМАТЕРИЈАЛНА ИМОВИНА | D43: =SUM(E43:J43) -> 100 | E43: ='2021 '!E440 -> 0 | F43: ='2021 '!F440 -> 0 | G43: ='2021 '!G440 -> 0 | H43: ='2021 '!H440 -> 0 | I43: ='2021 '!I440 -> 0 | J43: ='2021 '!J440 -> 100
B44: 520000 | C44: ЗАЛИХЕ | D44: =SUM(E44:J44) -> 0 | E44: =SUM(E45:E46) -> 0 | F44: =SUM(F45:F46) -> 0 | G44: =SUM(G45:G46) -> 0 | H44: =SUM(H45:H46) -> 0 | I44: =SUM(I45:I46) -> 0 | J44: =SUM(J45:J46) -> 0
B45: 522000 | C45: ЗАЛИХЕ ПРОИЗВОДЊЕ | D45: =SUM(E45:J45) -> 0
B46: 523000 | C46: ЗАЛИХЕ РОБЕ ЗА ДАЉУ ПРОДАЈУ | D46: =SUM(E46:J46) -> 0
B47: 550000 | C47: НЕФИНАНСИЈСКА ИМОВИНА КОЈА СЕ ФИНАНСИРА ИЗ СРЕДСТАВА ЗА РЕАЛИЗАЦИЈУ НАЦИОНАЛНОГ ИНВЕСТИЦИОНОГ ПЛАНА | D47: =SUM(E47:J47) -> 0 | E47: =E48 -> 0 | F47: =F48 -> 0 | G47: =G48 -> 0 | H47: =H48 -> 0 | I47: =I48 -> 0 | J47: =J48 -> 0
B48: 551000 | C48: НЕФИНАНСИЈСКА ИМОВИНА КОЈА СЕ ФИНАНСИРА ИЗ СРЕДСТАВА ЗА РЕАЛИЗАЦИЈУ НАЦИОНАЛНОГ ИНВЕСТИЦИОНОГ ПЛАНА | D48: =SUM(E48:J48) -> 0
B49: 600000 | C49: ИЗДАЦИ ЗА ОТПЛАТУ ГЛАВНИЦЕ И НАБАВКУ ФИНАНСИЈСКЕ ИМОВИНЕ | D49: =SUM(E49:J49) -> 0 | E49: =E50+E53 -> 0 | F49: =F50+F53 -> 0 | G49: =G50+G53 -> 0 | H49: =H50+H53 -> 0 | I49: =I50+I53 -> 0 | J49: =J50+J53 -> 0
B50: 610000 | C50: ОТПЛАТА ГЛАВНИЦЕ | D50: =SUM(E50:J50) -> 0 | E50: =SUM(E51:E52) -> 0 | F50: =SUM(F51:F52) -> 0 | G50: =SUM(G51:G52) -> 0 | H50: =SUM(H51:H52) -> 0 | I50: =SUM(I51:I52) -> 0 | J50: =SUM(J51:J52) -> 0
B51: 611000 | C51: ОТПЛАТА ГЛАВНИЦЕ ДОМАЋИМ КРЕДИТОРИМА | D51: =SUM(E51:J51) -> 0
B52: 614000 | C52: ОТПЛАТА ГЛАВНИЦЕ ЗА ФИНАНСИЈСКИ ЛИЗИНГ | D52: =SUM(E52:J52) -> 0
B53: 620000 | C53: НАБАВКА ФИНАНСИЈСКЕ ИМОВИНЕ | D53: =SUM(E53:J53) -> 0 | E53: =E54 -> 0 | F53: =F54 -> 0 | G53: =G54 -> 0 | H53: =H54 -> 0 | I53: =I54 -> 0 | J53: =J54 -> 0
B54: 621000 | C54: НАБАВКА ДОМАЋЕ ФИНАНСИЈСКЕ ИМОВИНЕ | D54: =SUM(E54:J54) -> 0
C55: УКУПНИ РАСХОДИ И ИЗДАЦИ | D55: =SUM(E55:J55) -> 494511 | E55: =E6+E49 -> 7000 | F55: =F6+F49 -> 11000 | G55: =G6+G49 -> 20000 | H55: =H6+H49 -> 417249 | I55: =I6+I49 -> 5250 | J55: =J6+J49 -> 34012
